BEGIN:VCALENDAR
VERSION:2.0
PRODID:-//Freiwillige Feuerwehr Oberötzdorf - ECPv6.15.20//NONSGML v1.0//EN
CALSCALE:GREGORIAN
METHOD:PUBLISH
X-ORIGINAL-URL:https://ff-oberoetzdorf.de
X-WR-CALDESC:Veranstaltungen für Freiwillige Feuerwehr Oberötzdorf
REFRESH-INTERVAL;VALUE=DURATION:PT1H
X-Robots-Tag:noindex
X-PUBLISHED-TTL:PT1H
BEGIN:VTIMEZONE
TZID:Europe/Berlin
BEGIN:DAYLIGHT
TZOFFSETFROM:+0100
TZOFFSETTO:+0200
TZNAME:CEST
DTSTART:20240331T010000
END:DAYLIGHT
BEGIN:STANDARD
TZOFFSETFROM:+0200
TZOFFSETTO:+0100
TZNAME:CET
DTSTART:20241027T010000
END:STANDARD
BEGIN:DAYLIGHT
TZOFFSETFROM:+0100
TZOFFSETTO:+0200
TZNAME:CEST
DTSTART:20250330T010000
END:DAYLIGHT
BEGIN:STANDARD
TZOFFSETFROM:+0200
TZOFFSETTO:+0100
TZNAME:CET
DTSTART:20251026T010000
END:STANDARD
BEGIN:DAYLIGHT
TZOFFSETFROM:+0100
TZOFFSETTO:+0200
TZNAME:CEST
DTSTART:20260329T010000
END:DAYLIGHT
BEGIN:STANDARD
TZOFFSETFROM:+0200
TZOFFSETTO:+0100
TZNAME:CET
DTSTART:20261025T010000
END:STANDARD
END:VTIMEZONE
BEGIN:VEVENT
DTSTART;TZID=Europe/Berlin:20251001T190000
DTEND;TZID=Europe/Berlin:20251001T210000
DTSTAMP:20260423T121325
CREATED:20241111T092603Z
LAST-MODIFIED:20241227T182418Z
UID:320-1759345200-1759352400@ff-oberoetzdorf.de
SUMMARY:Funkübung
DESCRIPTION:Bereich Untergriesbach \n\n\n\nAusrichter Untergriesbach
URL:https://ff-oberoetzdorf.de/event/funkuebung/
CATEGORIES:Aktiv
ATTACH;FMTTYPE=image/jpeg:https://ff-oberoetzdorf.de/wp-content/uploads/2024/09/Funk.jpg
END:VEVENT
BEGIN:VEVENT
DTSTART;TZID=Europe/Berlin:20251004T190000
DTEND;TZID=Europe/Berlin:20251004T210000
DTSTAMP:20260423T121325
CREATED:20241227T172124Z
LAST-MODIFIED:20241227T182303Z
UID:406-1759604400-1759611600@ff-oberoetzdorf.de
SUMMARY:Monatsübung
DESCRIPTION:
URL:https://ff-oberoetzdorf.de/event/monatsubung/
LOCATION:Feuerwehrhaus\, Spechting\, Untergriesbach\, 94107\, Germany
CATEGORIES:Aktiv
ATTACH;FMTTYPE=image/jpeg:https://ff-oberoetzdorf.de/wp-content/uploads/2024/09/Uebung.jpg
END:VEVENT
BEGIN:VEVENT
DTSTART;TZID=Europe/Berlin:20251008T190000
DTEND;TZID=Europe/Berlin:20251008T220000
DTSTAMP:20260423T121325
CREATED:20250106T121605Z
LAST-MODIFIED:20250106T121606Z
UID:434-1759950000-1759960800@ff-oberoetzdorf.de
SUMMARY:Alarmübung 2025
DESCRIPTION:
URL:https://ff-oberoetzdorf.de/event/alarmuebung-2025/
CATEGORIES:Aktiv
ATTACH;FMTTYPE=image/jpeg:https://ff-oberoetzdorf.de/wp-content/uploads/2024/09/837A5014-scaled.jpg
END:VEVENT
BEGIN:VEVENT
DTSTART;TZID=Europe/Berlin:20251020T193000
DTEND;TZID=Europe/Berlin:20251020T210000
DTSTAMP:20260423T121325
CREATED:20250102T095103Z
LAST-MODIFIED:20250102T095105Z
UID:427-1760988600-1760994000@ff-oberoetzdorf.de
SUMMARY:Atemschutzübungsanlage
DESCRIPTION:
URL:https://ff-oberoetzdorf.de/event/atemschutzuebungsanlage-4/
CATEGORIES:Aktiv,Atemschutz
ATTACH;FMTTYPE=image/jpeg:https://ff-oberoetzdorf.de/wp-content/uploads/2024/11/20241023_235600000_iOS.jpg
END:VEVENT
BEGIN:VEVENT
DTSTART;TZID=Europe/Berlin:20251025T080000
DTEND;TZID=Europe/Berlin:20251025T170000
DTSTAMP:20260423T121325
CREATED:20241227T172823Z
LAST-MODIFIED:20241227T172824Z
UID:412-1761379200-1761411600@ff-oberoetzdorf.de
SUMMARY:Wissenstest Jugend
DESCRIPTION:
URL:https://ff-oberoetzdorf.de/event/wissenstest-jugend/
CATEGORIES:Jugend
ATTACH;FMTTYPE=image/jpeg:https://ff-oberoetzdorf.de/wp-content/uploads/2024/09/837A5014-scaled.jpg
END:VEVENT
END:VCALENDAR