BEGIN:VCALENDAR
VERSION:2.0
PRODID:-//Freiwillige Feuerwehr Oberötzdorf - ECPv6.15.20//NONSGML v1.0//EN
CALSCALE:GREGORIAN
METHOD:PUBLISH
X-WR-CALNAME:Freiwillige Feuerwehr Oberötzdorf
X-ORIGINAL-URL:https://ff-oberoetzdorf.de
X-WR-CALDESC:Veranstaltungen für Freiwillige Feuerwehr Oberötzdorf
REFRESH-INTERVAL;VALUE=DURATION:PT1H
X-Robots-Tag:noindex
X-PUBLISHED-TTL:PT1H
BEGIN:VTIMEZONE
TZID:Europe/Berlin
BEGIN:DAYLIGHT
TZOFFSETFROM:+0100
TZOFFSETTO:+0200
TZNAME:CEST
DTSTART:20240331T010000
END:DAYLIGHT
BEGIN:STANDARD
TZOFFSETFROM:+0200
TZOFFSETTO:+0100
TZNAME:CET
DTSTART:20241027T010000
END:STANDARD
BEGIN:DAYLIGHT
TZOFFSETFROM:+0100
TZOFFSETTO:+0200
TZNAME:CEST
DTSTART:20250330T010000
END:DAYLIGHT
BEGIN:STANDARD
TZOFFSETFROM:+0200
TZOFFSETTO:+0100
TZNAME:CET
DTSTART:20251026T010000
END:STANDARD
BEGIN:DAYLIGHT
TZOFFSETFROM:+0100
TZOFFSETTO:+0200
TZNAME:CEST
DTSTART:20260329T010000
END:DAYLIGHT
BEGIN:STANDARD
TZOFFSETFROM:+0200
TZOFFSETTO:+0100
TZNAME:CET
DTSTART:20261025T010000
END:STANDARD
END:VTIMEZONE
BEGIN:VEVENT
DTSTART;TZID=Europe/Berlin:20250705T190000
DTEND;TZID=Europe/Berlin:20250705T210000
DTSTAMP:20260423T132226
CREATED:20241227T171531Z
LAST-MODIFIED:20241227T182622Z
UID:400-1751742000-1751749200@ff-oberoetzdorf.de
SUMMARY:Monatsübung
DESCRIPTION:
URL:https://ff-oberoetzdorf.de/event/monatsuebung-4/
LOCATION:Feuerwehrhaus\, Spechting\, Untergriesbach\, 94107\, Germany
ATTACH;FMTTYPE=image/jpeg:https://ff-oberoetzdorf.de/wp-content/uploads/2024/09/Uebung.jpg
END:VEVENT
BEGIN:VEVENT
DTSTART;TZID=Europe/Berlin:20250712T080000
DTEND;TZID=Europe/Berlin:20250712T170000
DTSTAMP:20260423T132226
CREATED:20241227T172718Z
LAST-MODIFIED:20241227T172719Z
UID:410-1752307200-1752339600@ff-oberoetzdorf.de
SUMMARY:Bayerisches Jugendleistungsabzeichen
DESCRIPTION:
URL:https://ff-oberoetzdorf.de/event/bayerisches-jugendleistungsabzeichen/
CATEGORIES:Aktiv,Jugend
ATTACH;FMTTYPE=image/jpeg:https://ff-oberoetzdorf.de/wp-content/uploads/2024/09/837A5014-scaled.jpg
END:VEVENT
END:VCALENDAR