BEGIN:VCALENDAR
VERSION:2.0
PRODID:-//Freiwillige Feuerwehr Oberötzdorf - ECPv6.15.20//NONSGML v1.0//EN
CALSCALE:GREGORIAN
METHOD:PUBLISH
X-WR-CALNAME:Freiwillige Feuerwehr Oberötzdorf
X-ORIGINAL-URL:https://ff-oberoetzdorf.de
X-WR-CALDESC:Veranstaltungen für Freiwillige Feuerwehr Oberötzdorf
REFRESH-INTERVAL;VALUE=DURATION:PT1H
X-Robots-Tag:noindex
X-PUBLISHED-TTL:PT1H
BEGIN:VTIMEZONE
TZID:Europe/Berlin
BEGIN:DAYLIGHT
TZOFFSETFROM:+0100
TZOFFSETTO:+0200
TZNAME:CEST
DTSTART:20240331T010000
END:DAYLIGHT
BEGIN:STANDARD
TZOFFSETFROM:+0200
TZOFFSETTO:+0100
TZNAME:CET
DTSTART:20241027T010000
END:STANDARD
BEGIN:DAYLIGHT
TZOFFSETFROM:+0100
TZOFFSETTO:+0200
TZNAME:CEST
DTSTART:20250330T010000
END:DAYLIGHT
BEGIN:STANDARD
TZOFFSETFROM:+0200
TZOFFSETTO:+0100
TZNAME:CET
DTSTART:20251026T010000
END:STANDARD
BEGIN:DAYLIGHT
TZOFFSETFROM:+0100
TZOFFSETTO:+0200
TZNAME:CEST
DTSTART:20260329T010000
END:DAYLIGHT
BEGIN:STANDARD
TZOFFSETFROM:+0200
TZOFFSETTO:+0100
TZNAME:CET
DTSTART:20261025T010000
END:STANDARD
END:VTIMEZONE
BEGIN:VEVENT
DTSTART;TZID=Europe/Berlin:20250608T080000
DTEND;TZID=Europe/Berlin:20250608T170000
DTSTAMP:20260423T144733
CREATED:20241103T114214Z
LAST-MODIFIED:20241227T174034Z
UID:312-1749369600-1749402000@ff-oberoetzdorf.de
SUMMARY:125 Jahre Feuerwehr Windpassing / Haag
DESCRIPTION:
URL:https://ff-oberoetzdorf.de/event/125-jahre-feuerwehr-windpassing-haag/
CATEGORIES:Verein
ATTACH;FMTTYPE=image/jpeg:https://ff-oberoetzdorf.de/wp-content/uploads/2024/11/IMG_0473-scaled.jpg
END:VEVENT
BEGIN:VEVENT
DTSTART;TZID=Europe/Berlin:20250614T180000
DTEND;TZID=Europe/Berlin:20250614T210000
DTSTAMP:20260423T144733
CREATED:20241227T170949Z
LAST-MODIFIED:20250314T095619Z
UID:396-1749924000-1749934800@ff-oberoetzdorf.de
SUMMARY:Sonnwendfeuer Pfaffenreut
DESCRIPTION:
URL:https://ff-oberoetzdorf.de/event/monatsuebung-3/
LOCATION:Pfaffenreut
CATEGORIES:Aktiv
ATTACH;FMTTYPE=image/jpeg:https://ff-oberoetzdorf.de/wp-content/uploads/2024/09/837A5014-scaled.jpg
END:VEVENT
BEGIN:VEVENT
DTSTART;TZID=Europe/Berlin:20250621T080000
DTEND;TZID=Europe/Berlin:20250621T120000
DTSTAMP:20260423T144733
CREATED:20250108T063717Z
LAST-MODIFIED:20250108T063718Z
UID:440-1750492800-1750507200@ff-oberoetzdorf.de
SUMMARY:Jugendflamme
DESCRIPTION:
URL:https://ff-oberoetzdorf.de/event/jugendflamme/
CATEGORIES:Aktiv,Jugend
ATTACH;FMTTYPE=image/jpeg:https://ff-oberoetzdorf.de/wp-content/uploads/2024/09/837A5014-scaled.jpg
END:VEVENT
BEGIN:VEVENT
DTSTART;TZID=Europe/Berlin:20250622T080000
DTEND;TZID=Europe/Berlin:20250622T170000
DTSTAMP:20260423T144733
CREATED:20241103T114318Z
LAST-MODIFIED:20241227T173738Z
UID:314-1750579200-1750611600@ff-oberoetzdorf.de
SUMMARY:130 Jahre Feuerwehr Schaibing
DESCRIPTION:
URL:https://ff-oberoetzdorf.de/event/130-jahre-feuerwehr-schaibing/
CATEGORIES:Verein
ATTACH;FMTTYPE=image/jpeg:https://ff-oberoetzdorf.de/wp-content/uploads/2024/11/IMG_0473-scaled.jpg
END:VEVENT
END:VCALENDAR