BEGIN:VCALENDAR
VERSION:2.0
PRODID:-//Freiwillige Feuerwehr Oberötzdorf - ECPv6.15.20//NONSGML v1.0//EN
CALSCALE:GREGORIAN
METHOD:PUBLISH
X-ORIGINAL-URL:https://ff-oberoetzdorf.de
X-WR-CALDESC:Veranstaltungen für Freiwillige Feuerwehr Oberötzdorf
REFRESH-INTERVAL;VALUE=DURATION:PT1H
X-Robots-Tag:noindex
X-PUBLISHED-TTL:PT1H
BEGIN:VTIMEZONE
TZID:Europe/Berlin
BEGIN:DAYLIGHT
TZOFFSETFROM:+0100
TZOFFSETTO:+0200
TZNAME:CEST
DTSTART:20240331T010000
END:DAYLIGHT
BEGIN:STANDARD
TZOFFSETFROM:+0200
TZOFFSETTO:+0100
TZNAME:CET
DTSTART:20241027T010000
END:STANDARD
BEGIN:DAYLIGHT
TZOFFSETFROM:+0100
TZOFFSETTO:+0200
TZNAME:CEST
DTSTART:20250330T010000
END:DAYLIGHT
BEGIN:STANDARD
TZOFFSETFROM:+0200
TZOFFSETTO:+0100
TZNAME:CET
DTSTART:20251026T010000
END:STANDARD
BEGIN:DAYLIGHT
TZOFFSETFROM:+0100
TZOFFSETTO:+0200
TZNAME:CEST
DTSTART:20260329T010000
END:DAYLIGHT
BEGIN:STANDARD
TZOFFSETFROM:+0200
TZOFFSETTO:+0100
TZNAME:CET
DTSTART:20261025T010000
END:STANDARD
END:VTIMEZONE
BEGIN:VEVENT
DTSTART;TZID=Europe/Berlin:20250405T100000
DTEND;TZID=Europe/Berlin:20250405T120000
DTSTAMP:20260423T180256
CREATED:20250314T095840Z
LAST-MODIFIED:20250314T100010Z
UID:586-1743847200-1743854400@ff-oberoetzdorf.de
SUMMARY:Schnuppertag der Löschspechte
DESCRIPTION:Kinderfeuerwehr Oberötzdorf
URL:https://ff-oberoetzdorf.de/event/schnuppertag-der-loeschspechte/
ATTACH;FMTTYPE=image/png:https://ff-oberoetzdorf.de/wp-content/uploads/2025/03/Feuerspecht.png
END:VEVENT
BEGIN:VEVENT
DTSTART;TZID=Europe/Berlin:20250405T190000
DTEND;TZID=Europe/Berlin:20250405T210000
DTSTAMP:20260423T180256
CREATED:20241227T170419Z
LAST-MODIFIED:20241227T182904Z
UID:392-1743879600-1743886800@ff-oberoetzdorf.de
SUMMARY:Monatsübung
DESCRIPTION:
URL:https://ff-oberoetzdorf.de/event/monatsuebung/
LOCATION:Feuerwehrhaus\, Spechting\, Untergriesbach\, 94107\, Germany
CATEGORIES:Aktiv
ATTACH;FMTTYPE=image/jpeg:https://ff-oberoetzdorf.de/wp-content/uploads/2024/09/Uebung.jpg
END:VEVENT
END:VCALENDAR